BEGIN:VCALENDAR
VERSION:2.0
PRODID:-//Concello de Salceda de Caselas - ECPv6.15.17.1//NONSGML v1.0//EN
CALSCALE:GREGORIAN
METHOD:PUBLISH
X-ORIGINAL-URL:https://salcedadecaselas.gal
X-WR-CALDESC:Eventos para Concello de Salceda de Caselas
REFRESH-INTERVAL;VALUE=DURATION:PT1H
X-Robots-Tag:noindex
X-PUBLISHED-TTL:PT1H
BEGIN:VTIMEZONE
TZID:UTC
BEGIN:STANDARD
TZOFFSETFROM:+0000
TZOFFSETTO:+0000
TZNAME:UTC
DTSTART:20250101T000000
END:STANDARD
END:VTIMEZONE
BEGIN:VEVENT
DTSTART;VALUE=DATE:20260213
DTEND;VALUE=DATE:20260301
DTSTAMP:20260424T071245
CREATED:20260205T125747Z
LAST-MODIFIED:20260205T125747Z
UID:10000320-1770940800-1772323199@salcedadecaselas.gal
SUMMARY:CERTAME XANK PENABELLA
DESCRIPTION:
URL:https://salcedadecaselas.gal/evento/certame-xank-penabella/
ATTACH;FMTTYPE=image/jpeg:https://salcedadecaselas.gal/wp-content/uploads/2026/02/WhatsApp-Image-2026-02-05-at-10.39.09.jpeg
ORGANIZER;CN="Concello de Salceda de Caselas":MAILTO:alcaldia@salcedadecaselas.gal
END:VEVENT
BEGIN:VEVENT
DTSTART;VALUE=DATE:20260222
DTEND;VALUE=DATE:20260223
DTSTAMP:20260424T071245
CREATED:20260220T101438Z
LAST-MODIFIED:20260220T101438Z
UID:10000335-1771718400-1771804799@salcedadecaselas.gal
SUMMARY:PROGRAMACIÓN DEPORTIVA
DESCRIPTION:
URL:https://salcedadecaselas.gal/evento/programacion-deportiva-33/
ATTACH;FMTTYPE=image/jpeg:https://salcedadecaselas.gal/wp-content/uploads/2026/02/WhatsApp-Image-2026-02-19-at-21.23.33.jpeg
END:VEVENT
BEGIN:VEVENT
DTSTART;VALUE=DATE:20260227
DTEND;VALUE=DATE:20260228
DTSTAMP:20260424T071245
CREATED:20260224T131546Z
LAST-MODIFIED:20260226T133817Z
UID:10000337-1772150400-1772236799@salcedadecaselas.gal
SUMMARY:HISTORIAS SOÑADAS
DESCRIPTION:
URL:https://salcedadecaselas.gal/evento/historias-sonadas/
LOCATION:Auditorio Municipal
ATTACH;FMTTYPE=image/jpeg:https://salcedadecaselas.gal/wp-content/uploads/2026/02/WhatsApp-Image-2026-02-25-at-12.37.39.jpeg
ORGANIZER;CN="Concello de Salceda de Caselas":MAILTO:alcaldia@salcedadecaselas.gal
END:VEVENT
BEGIN:VEVENT
DTSTART;VALUE=DATE:20260228
DTEND;VALUE=DATE:20260301
DTSTAMP:20260424T071245
CREATED:20260224T131902Z
LAST-MODIFIED:20260224T131902Z
UID:10000338-1772236800-1772323199@salcedadecaselas.gal
SUMMARY:SAIDA MEDIOAMBIENTAL
DESCRIPTION:
URL:https://salcedadecaselas.gal/evento/saida-medioambiental/
LOCATION:Centro Cultural San Xurxo
ATTACH;FMTTYPE=image/jpeg:https://salcedadecaselas.gal/wp-content/uploads/2026/02/WhatsApp-Image-2026-02-24-at-11.48.35.jpeg
END:VEVENT
BEGIN:VEVENT
DTSTART;VALUE=DATE:20260228
DTEND;VALUE=DATE:20260301
DTSTAMP:20260424T071245
CREATED:20260226T141730Z
LAST-MODIFIED:20260226T142131Z
UID:10000340-1772236800-1772323199@salcedadecaselas.gal
SUMMARY:PROGRAMACIÓN DEPORTIVA
DESCRIPTION:
URL:https://salcedadecaselas.gal/evento/programacion-deportiva-35/
ATTACH;FMTTYPE=image/jpeg:https://salcedadecaselas.gal/wp-content/uploads/2026/02/WhatsApp-Image-2026-02-26-at-15.19.06.jpeg
END:VEVENT
BEGIN:VEVENT
DTSTART;VALUE=DATE:20260301
DTEND;VALUE=DATE:20260302
DTSTAMP:20260424T071245
CREATED:20260226T141904Z
LAST-MODIFIED:20260226T141904Z
UID:10000341-1772323200-1772409599@salcedadecaselas.gal
SUMMARY:PROGRAMACIÓN DEPORTIVA
DESCRIPTION:
URL:https://salcedadecaselas.gal/evento/programacion-deportiva-36/
ATTACH;FMTTYPE=image/jpeg:https://salcedadecaselas.gal/wp-content/uploads/2026/02/WhatsApp-Image-2026-02-26-at-15.04.13.jpeg
END:VEVENT
BEGIN:VEVENT
DTSTART;VALUE=DATE:20260301
DTEND;VALUE=DATE:20260302
DTSTAMP:20260424T071245
CREATED:20260226T141955Z
LAST-MODIFIED:20260226T141955Z
UID:10000342-1772323200-1772409599@salcedadecaselas.gal
SUMMARY:II XORNADA DE ELIMINACIÓN DE INVASORAS
DESCRIPTION:
URL:https://salcedadecaselas.gal/evento/ii-xornada-de-eliminacion-de-invasoras/
LOCATION:C. S. O Matadoiro
ATTACH;FMTTYPE=image/jpeg:https://salcedadecaselas.gal/wp-content/uploads/2026/02/WhatsApp-Image-2026-02-26-at-15.09.08.jpeg
END:VEVENT
BEGIN:VEVENT
DTSTART;VALUE=DATE:20260307
DTEND;VALUE=DATE:20260308
DTSTAMP:20260424T071245
CREATED:20260205T213132Z
LAST-MODIFIED:20260205T213132Z
UID:10000324-1772841600-1772927999@salcedadecaselas.gal
SUMMARY:SORTEO DE EXPERIENCIAS
DESCRIPTION:
URL:https://salcedadecaselas.gal/evento/sorteo-de-experiencias/
LOCATION:Centro Cultural San Xurxo
ATTACH;FMTTYPE=image/jpeg:https://salcedadecaselas.gal/wp-content/uploads/2026/02/WhatsApp-Image-2026-02-05-at-18.17.27.jpeg
END:VEVENT
BEGIN:VEVENT
DTSTART;VALUE=DATE:20260307
DTEND;VALUE=DATE:20260308
DTSTAMP:20260424T071245
CREATED:20260212T091310Z
LAST-MODIFIED:20260212T091310Z
UID:10000327-1772841600-1772927999@salcedadecaselas.gal
SUMMARY:SORTEO DE EXPERIENCIAS 2.0
DESCRIPTION:
URL:https://salcedadecaselas.gal/evento/sorteo-de-experiencias-2-0/
LOCATION:Local social Virxe da Concepción\, R/Pontevedra 18
ATTACH;FMTTYPE=image/jpeg:https://salcedadecaselas.gal/wp-content/uploads/2026/02/WhatsApp-Image-2026-02-12-at-10.10.03.jpeg
END:VEVENT
BEGIN:VEVENT
DTSTART;VALUE=DATE:20260307
DTEND;VALUE=DATE:20260309
DTSTAMP:20260424T071245
CREATED:20260306T083625Z
LAST-MODIFIED:20260306T083625Z
UID:10000345-1772841600-1773014399@salcedadecaselas.gal
SUMMARY:PROGRAMACIÓN DEPORTIVA
DESCRIPTION:
URL:https://salcedadecaselas.gal/evento/programacion-deportiva-37/
ATTACH;FMTTYPE=image/jpeg:https://salcedadecaselas.gal/wp-content/uploads/2026/03/WhatsApp-Image-2026-03-05-at-20.19.39.jpeg
END:VEVENT
BEGIN:VEVENT
DTSTART;VALUE=DATE:20260308
DTEND;VALUE=DATE:20260309
DTSTAMP:20260424T071245
CREATED:20260212T095258Z
LAST-MODIFIED:20260212T095258Z
UID:10000330-1772928000-1773014399@salcedadecaselas.gal
SUMMARY:III FESTIVAL SOLIDARIO CÁRITAS
DESCRIPTION:
URL:https://salcedadecaselas.gal/evento/iii-festival-solidario-caritas/
LOCATION:Auditorio Municipal
ATTACH;FMTTYPE=image/jpeg:https://salcedadecaselas.gal/wp-content/uploads/2026/02/WhatsApp-Image-2026-01-31-at-08.18.31.jpeg
END:VEVENT
BEGIN:VEVENT
DTSTART;VALUE=DATE:20260308
DTEND;VALUE=DATE:20260309
DTSTAMP:20260424T071245
CREATED:20260304T170305Z
LAST-MODIFIED:20260304T170548Z
UID:10000343-1772928000-1773014399@salcedadecaselas.gal
SUMMARY:MULLER INFINITA
DESCRIPTION:
URL:https://salcedadecaselas.gal/evento/muller-infinita/
LOCATION:Centro Social A Devesa
ATTACH;FMTTYPE=image/jpeg:https://salcedadecaselas.gal/wp-content/uploads/2026/03/Ilustracion_sin_titulo-16.jpg
ORGANIZER;CN="Concello de Salceda de Caselas":MAILTO:alcaldia@salcedadecaselas.gal
END:VEVENT
BEGIN:VEVENT
DTSTART;VALUE=DATE:20260313
DTEND;VALUE=DATE:20260315
DTSTAMP:20260424T071245
CREATED:20260212T091518Z
LAST-MODIFIED:20260226T125129Z
UID:10000328-1773360000-1773532799@salcedadecaselas.gal
SUMMARY:XVI FOLIADA FURANCHEIRA (A ORIXINAL)
DESCRIPTION:
URL:https://salcedadecaselas.gal/evento/xvi-foliada-furancheira-a-orixinal/2026-03-13/
LOCATION:A Picoña
ATTACH;FMTTYPE=image/jpeg:https://salcedadecaselas.gal/wp-content/uploads/2026/02/WhatsApp-Image-2026-02-25-at-10.42.02.jpeg
END:VEVENT
BEGIN:VEVENT
DTSTART;VALUE=DATE:20260313
DTEND;VALUE=DATE:20260316
DTSTAMP:20260424T071245
CREATED:20260310T145100Z
LAST-MODIFIED:20260310T145100Z
UID:10000346-1773360000-1773619199@salcedadecaselas.gal
SUMMARY:SABORES DA CAMELIA
DESCRIPTION:
URL:https://salcedadecaselas.gal/evento/sabores-da-camelia/
ATTACH;FMTTYPE=image/jpeg:https://salcedadecaselas.gal/wp-content/uploads/2026/03/WhatsApp-Image-2026-03-10-at-10.47.00-1.jpeg
END:VEVENT
BEGIN:VEVENT
DTSTART;VALUE=DATE:20260314
DTEND;VALUE=DATE:20260315
DTSTAMP:20260424T071245
CREATED:20260313T092108Z
LAST-MODIFIED:20260313T092108Z
UID:10000348-1773446400-1773532799@salcedadecaselas.gal
SUMMARY:PROGRAMACIÓN DEPORTIVA
DESCRIPTION:
URL:https://salcedadecaselas.gal/evento/programacion-deportiva-38/
ATTACH;FMTTYPE=image/jpeg:https://salcedadecaselas.gal/wp-content/uploads/2026/03/WhatsApp-Image-2026-03-12-at-12.37.19-1.jpeg
END:VEVENT
BEGIN:VEVENT
DTSTART;VALUE=DATE:20260314
DTEND;VALUE=DATE:20260316
DTSTAMP:20260424T071245
CREATED:20260212T142438Z
LAST-MODIFIED:20260212T142438Z
UID:10000331-1773446400-1773619199@salcedadecaselas.gal
SUMMARY:XVII XORNADAS DA CAMELIA
DESCRIPTION:
URL:https://salcedadecaselas.gal/evento/xvii-xornadas-da-camelia/
LOCATION:Auditorio Municipal
ATTACH;FMTTYPE=image/jpeg:https://salcedadecaselas.gal/wp-content/uploads/2026/02/WhatsApp-Image-2026-02-12-at-15.20.36.jpeg
ORGANIZER;CN="Concello de Salceda de Caselas":MAILTO:alcaldia@salcedadecaselas.gal
END:VEVENT
BEGIN:VEVENT
DTSTART;VALUE=DATE:20260315
DTEND;VALUE=DATE:20260316
DTSTAMP:20260424T071245
CREATED:20260313T092236Z
LAST-MODIFIED:20260313T092236Z
UID:10000350-1773532800-1773619199@salcedadecaselas.gal
SUMMARY:PROGRAMACIÓN DEPORTIVA
DESCRIPTION:
URL:https://salcedadecaselas.gal/evento/programacion-deportiva-39/
ATTACH;FMTTYPE=image/jpeg:https://salcedadecaselas.gal/wp-content/uploads/2026/03/WhatsApp-Image-2026-03-12-at-20.02.32.jpeg
END:VEVENT
BEGIN:VEVENT
DTSTART;VALUE=DATE:20260315
DTEND;VALUE=DATE:20260316
DTSTAMP:20260424T071245
CREATED:20260313T161502Z
LAST-MODIFIED:20260313T161502Z
UID:10000351-1773532800-1773619199@salcedadecaselas.gal
SUMMARY:CONCERTO MASTERCLASS DE DIRECCIÓN
DESCRIPTION:
URL:https://salcedadecaselas.gal/evento/concerto-masterclass-de-direccion/
ATTACH;FMTTYPE=image/jpeg:https://salcedadecaselas.gal/wp-content/uploads/2026/03/WhatsApp-Image-2026-03-13-at-17.10.23.jpeg
END:VEVENT
BEGIN:VEVENT
DTSTART;VALUE=DATE:20260320
DTEND;VALUE=DATE:20260322
DTSTAMP:20260424T071245
CREATED:20260212T091518Z
LAST-MODIFIED:20260226T125129Z
UID:10000339-1773993600-1774112400@salcedadecaselas.gal
SUMMARY:XVI FOLIADA FURANCHEIRA (A ORIXINAL)
DESCRIPTION:
URL:https://salcedadecaselas.gal/evento/xvi-foliada-furancheira-a-orixinal/2026-03-20/
LOCATION:A Picoña
ATTACH;FMTTYPE=image/jpeg:https://salcedadecaselas.gal/wp-content/uploads/2026/02/WhatsApp-Image-2026-02-25-at-10.42.02.jpeg
END:VEVENT
BEGIN:VEVENT
DTSTART;VALUE=DATE:20260322
DTEND;VALUE=DATE:20260323
DTSTAMP:20260424T071245
CREATED:20260313T091950Z
LAST-MODIFIED:20260313T091950Z
UID:10000347-1774137600-1774223999@salcedadecaselas.gal
SUMMARY:A HISTORIA VAXENIAL
DESCRIPTION:
URL:https://salcedadecaselas.gal/evento/a-historia-vaxenial/
LOCATION:Auditorio Municipal
ATTACH;FMTTYPE=image/jpeg:https://salcedadecaselas.gal/wp-content/uploads/2026/03/WhatsApp-Image-2026-03-12-at-15.07.11.jpeg
ORGANIZER;CN="Concello de Salceda de Caselas":MAILTO:alcaldia@salcedadecaselas.gal
END:VEVENT
BEGIN:VEVENT
DTSTART;VALUE=DATE:20260327
DTEND;VALUE=DATE:20260328
DTSTAMP:20260424T071245
CREATED:20260326T142301Z
LAST-MODIFIED:20260326T142301Z
UID:10000355-1774569600-1774655999@salcedadecaselas.gal
SUMMARY:FESTA DE PASCOA
DESCRIPTION:
URL:https://salcedadecaselas.gal/evento/festa-de-pascoa/
LOCATION:Parque Municipal da Gándara
ATTACH;FMTTYPE=image/jpeg:https://salcedadecaselas.gal/wp-content/uploads/2026/03/5.jpg
END:VEVENT
BEGIN:VEVENT
DTSTART;VALUE=DATE:20260328
DTEND;VALUE=DATE:20260329
DTSTAMP:20260424T071245
CREATED:20260326T142102Z
LAST-MODIFIED:20260326T142102Z
UID:10000353-1774656000-1774742399@salcedadecaselas.gal
SUMMARY:PROGRAMACIÓN DEPORTIVA
DESCRIPTION:
URL:https://salcedadecaselas.gal/evento/programacion-deportiva-40/
ATTACH;FMTTYPE=image/jpeg:https://salcedadecaselas.gal/wp-content/uploads/2026/03/2.jpg
END:VEVENT
BEGIN:VEVENT
DTSTART;VALUE=DATE:20260328
DTEND;VALUE=DATE:20260329
DTSTAMP:20260424T071245
CREATED:20260326T142414Z
LAST-MODIFIED:20260326T142414Z
UID:10000356-1774656000-1774742399@salcedadecaselas.gal
SUMMARY:IMPROCONAS
DESCRIPTION:
URL:https://salcedadecaselas.gal/evento/improconas/
LOCATION:C. S. O Matadoiro
ATTACH;FMTTYPE=image/jpeg:https://salcedadecaselas.gal/wp-content/uploads/2026/03/6.jpg
END:VEVENT
BEGIN:VEVENT
DTSTART;VALUE=DATE:20260328
DTEND;VALUE=DATE:20260329
DTSTAMP:20260424T071245
CREATED:20260326T142542Z
LAST-MODIFIED:20260326T142542Z
UID:10000357-1774656000-1774742399@salcedadecaselas.gal
SUMMARY:PLANTANDO VIDA
DESCRIPTION:
URL:https://salcedadecaselas.gal/evento/plantando-vida-2/
LOCATION:Capela San Brais – Entenza
ATTACH;FMTTYPE=image/jpeg:https://salcedadecaselas.gal/wp-content/uploads/2026/03/8.jpg
END:VEVENT
BEGIN:VEVENT
DTSTART;VALUE=DATE:20260328
DTEND;VALUE=DATE:20260330
DTSTAMP:20260424T071245
CREATED:20260306T083359Z
LAST-MODIFIED:20260306T083359Z
UID:10000344-1774656000-1774828799@salcedadecaselas.gal
SUMMARY:II ARTES E SABORES
DESCRIPTION:
URL:https://salcedadecaselas.gal/evento/ii-artes-e-sabores/
LOCATION:AVV Caselas
ATTACH;FMTTYPE=image/jpeg:https://salcedadecaselas.gal/wp-content/uploads/2026/03/WhatsApp-Image-2026-03-06-at-09.28.38.jpeg
END:VEVENT
BEGIN:VEVENT
DTSTART;VALUE=DATE:20260329
DTEND;VALUE=DATE:20260330
DTSTAMP:20260424T071245
CREATED:20260317T123534Z
LAST-MODIFIED:20260317T123534Z
UID:10000352-1774742400-1774828799@salcedadecaselas.gal
SUMMARY:FESTA DO XABARÍN
DESCRIPTION:
URL:https://salcedadecaselas.gal/evento/festa-do-xabarin-2/
LOCATION:Torreiro de San Xurxo
ATTACH;FMTTYPE=image/jpeg:https://salcedadecaselas.gal/wp-content/uploads/2026/03/WhatsApp-Image-2026-03-17-at-13.32.58.jpeg
END:VEVENT
BEGIN:VEVENT
DTSTART;VALUE=DATE:20260329
DTEND;VALUE=DATE:20260331
DTSTAMP:20260424T071245
CREATED:20260326T142147Z
LAST-MODIFIED:20260326T142147Z
UID:10000354-1774742400-1774915199@salcedadecaselas.gal
SUMMARY:PROGRAMACIÓN DEPORTIVA
DESCRIPTION:
URL:https://salcedadecaselas.gal/evento/programacion-deportiva-41/
ATTACH;FMTTYPE=image/jpeg:https://salcedadecaselas.gal/wp-content/uploads/2026/03/3.jpg
END:VEVENT
BEGIN:VEVENT
DTSTART;VALUE=DATE:20260410
DTEND;VALUE=DATE:20260411
DTSTAMP:20260424T071245
CREATED:20260408T095034Z
LAST-MODIFIED:20260408T095034Z
UID:10000365-1775779200-1775865599@salcedadecaselas.gal
SUMMARY:FOLIADA SEISPOROITO
DESCRIPTION:
URL:https://salcedadecaselas.gal/evento/foliada-seisporoito/
LOCATION:C. S. O Matadoiro
ATTACH;FMTTYPE=image/jpeg:https://salcedadecaselas.gal/wp-content/uploads/2026/04/FOLIADA-SEISPOROITO.jpeg
END:VEVENT
BEGIN:VEVENT
DTSTART;VALUE=DATE:20260410
DTEND;VALUE=DATE:20260412
DTSTAMP:20260424T071245
CREATED:20260205T130109Z
LAST-MODIFIED:20260205T130109Z
UID:10000321-1775779200-1775951999@salcedadecaselas.gal
SUMMARY:FESTA FURANCHEIRA
DESCRIPTION:
URL:https://salcedadecaselas.gal/evento/festa-furancheira/2026-04-10/
ATTACH;FMTTYPE=image/jpeg:https://salcedadecaselas.gal/wp-content/uploads/2026/02/FESTA-FURANCHEIRA.jpeg
END:VEVENT
BEGIN:VEVENT
DTSTART;VALUE=DATE:20260411
DTEND;VALUE=DATE:20260412
DTSTAMP:20260424T071245
CREATED:20260405T190213Z
LAST-MODIFIED:20260405T190213Z
UID:10000363-1775865600-1775951999@salcedadecaselas.gal
SUMMARY:IV RUTA DAS CANTEIRAS
DESCRIPTION:
URL:https://salcedadecaselas.gal/evento/iv-ruta-das-canteiras/
ATTACH;FMTTYPE=image/jpeg:https://salcedadecaselas.gal/wp-content/uploads/2026/04/WhatsApp-Image-2026-04-05-at-21.00.12.jpeg
END:VEVENT
END:VCALENDAR