BEGIN:VCALENDAR
VERSION:2.0
PRODID:-//Concello de Salceda de Caselas - ECPv6.15.17.1//NONSGML v1.0//EN
CALSCALE:GREGORIAN
METHOD:PUBLISH
X-WR-CALNAME:Concello de Salceda de Caselas
X-ORIGINAL-URL:https://salcedadecaselas.gal
X-WR-CALDESC:Eventos para Concello de Salceda de Caselas
REFRESH-INTERVAL;VALUE=DURATION:PT1H
X-Robots-Tag:noindex
X-PUBLISHED-TTL:PT1H
BEGIN:VTIMEZONE
TZID:UTC
BEGIN:STANDARD
TZOFFSETFROM:+0000
TZOFFSETTO:+0000
TZNAME:UTC
DTSTART:20250101T000000
END:STANDARD
END:VTIMEZONE
BEGIN:VEVENT
DTSTART;VALUE=DATE:20260111
DTEND;VALUE=DATE:20260112
DTSTAMP:20260424T071856
CREATED:20251124T111609Z
LAST-MODIFIED:20251124T111609Z
UID:10000254-1768089600-1768175999@salcedadecaselas.gal
SUMMARY:XII KDD BTT DOS CALLOS
DESCRIPTION:
URL:https://salcedadecaselas.gal/evento/xii-kdd-btt-dos-callos/
LOCATION:Centro Cultural Castro Barreiro
ATTACH;FMTTYPE=image/jpeg:https://salcedadecaselas.gal/wp-content/uploads/2025/11/WhatsApp-Image-2025-11-23-at-18.52.27.jpeg
END:VEVENT
BEGIN:VEVENT
DTSTART;VALUE=DATE:20260111
DTEND;VALUE=DATE:20260112
DTSTAMP:20260424T071856
CREATED:20251124T111719Z
LAST-MODIFIED:20251124T111719Z
UID:10000255-1768089600-1768175999@salcedadecaselas.gal
SUMMARY:ANDAINA SOLIDARIA
DESCRIPTION:
URL:https://salcedadecaselas.gal/evento/andaina-solidaria/
LOCATION:Centro Cultural Castro Barreiro
ATTACH;FMTTYPE=image/jpeg:https://salcedadecaselas.gal/wp-content/uploads/2025/11/WhatsApp-Image-2025-11-23-at-18.52.28-1.jpeg
END:VEVENT
BEGIN:VEVENT
DTSTART;VALUE=DATE:20260111
DTEND;VALUE=DATE:20260112
DTSTAMP:20260424T071856
CREATED:20251124T111804Z
LAST-MODIFIED:20251124T111804Z
UID:10000256-1768089600-1768175999@salcedadecaselas.gal
SUMMARY:X TRAIL DOS PENEDOS
DESCRIPTION:
URL:https://salcedadecaselas.gal/evento/x-trail-dos-penedos/
LOCATION:Centro Cultural Castro Barreiro
ATTACH;FMTTYPE=image/jpeg:https://salcedadecaselas.gal/wp-content/uploads/2025/11/WhatsApp-Image-2025-11-23-at-18.52.28.jpeg
END:VEVENT
END:VCALENDAR