BEGIN:VCALENDAR
VERSION:2.0
PRODID:-//Concello de Salceda de Caselas - ECPv6.15.17.1//NONSGML v1.0//EN
CALSCALE:GREGORIAN
METHOD:PUBLISH
X-ORIGINAL-URL:https://salcedadecaselas.gal
X-WR-CALDESC:Eventos para Concello de Salceda de Caselas
REFRESH-INTERVAL;VALUE=DURATION:PT1H
X-Robots-Tag:noindex
X-PUBLISHED-TTL:PT1H
BEGIN:VTIMEZONE
TZID:UTC
BEGIN:STANDARD
TZOFFSETFROM:+0000
TZOFFSETTO:+0000
TZNAME:UTC
DTSTART:20240101T000000
END:STANDARD
END:VTIMEZONE
BEGIN:VEVENT
DTSTART;VALUE=DATE:20251123
DTEND;VALUE=DATE:20251124
DTSTAMP:20260424T100950
CREATED:20251028T110649Z
LAST-MODIFIED:20251028T110649Z
UID:10000216-1763856000-1763942399@salcedadecaselas.gal
SUMMARY:CHOLA A IT GIRL
DESCRIPTION:
URL:https://salcedadecaselas.gal/evento/chola-a-it-girl/
LOCATION:Auditorio Municipal
ATTACH;FMTTYPE=image/jpeg:https://salcedadecaselas.gal/wp-content/uploads/2025/10/WhatsApp-Image-2025-10-28-at-11.16.42.jpeg
ORGANIZER;CN="Concello de Salceda de Caselas":MAILTO:alcaldia@salcedadecaselas.gal
END:VEVENT
BEGIN:VEVENT
DTSTART;VALUE=DATE:20251121
DTEND;VALUE=DATE:20251122
DTSTAMP:20260424T100950
CREATED:20251113T105436Z
LAST-MODIFIED:20251113T105436Z
UID:10000241-1763722476-1763722476@salcedadecaselas.gal
SUMMARY:TALLER QUERER(NOS) LIBRES
DESCRIPTION:
URL:https://salcedadecaselas.gal/evento/taller-querernos-libres/2025-11-21/
ATTACH;FMTTYPE=image/jpeg:https://salcedadecaselas.gal/wp-content/uploads/2025/11/QUERERNOS-LIBRES.jpeg
ORGANIZER;CN="Concello de Salceda de Caselas":MAILTO:alcaldia@salcedadecaselas.gal
END:VEVENT
BEGIN:VEVENT
DTSTART;VALUE=DATE:20251119
DTEND;VALUE=DATE:20251120
DTSTAMP:20260424T100950
CREATED:20251113T105436Z
LAST-MODIFIED:20251113T105436Z
UID:10000240-1763549676-1763549676@salcedadecaselas.gal
SUMMARY:TALLER QUERER(NOS) LIBRES
DESCRIPTION:
URL:https://salcedadecaselas.gal/evento/taller-querernos-libres/2025-11-19/
ATTACH;FMTTYPE=image/jpeg:https://salcedadecaselas.gal/wp-content/uploads/2025/11/QUERERNOS-LIBRES.jpeg
ORGANIZER;CN="Concello de Salceda de Caselas":MAILTO:alcaldia@salcedadecaselas.gal
END:VEVENT
BEGIN:VEVENT
DTSTART;VALUE=DATE:20251114
DTEND;VALUE=DATE:20251115
DTSTAMP:20260424T100950
CREATED:20251113T105436Z
LAST-MODIFIED:20251113T105436Z
UID:10000239-1763117676-1763117676@salcedadecaselas.gal
SUMMARY:TALLER QUERER(NOS) LIBRES
DESCRIPTION:
URL:https://salcedadecaselas.gal/evento/taller-querernos-libres/2025-11-14/
ATTACH;FMTTYPE=image/jpeg:https://salcedadecaselas.gal/wp-content/uploads/2025/11/QUERERNOS-LIBRES.jpeg
ORGANIZER;CN="Concello de Salceda de Caselas":MAILTO:alcaldia@salcedadecaselas.gal
END:VEVENT
BEGIN:VEVENT
DTSTART;VALUE=DATE:20251112
DTEND;VALUE=DATE:20251113
DTSTAMP:20260424T100950
CREATED:20251113T105436Z
LAST-MODIFIED:20251113T105436Z
UID:10000238-1762905600-1762991999@salcedadecaselas.gal
SUMMARY:TALLER QUERER(NOS) LIBRES
DESCRIPTION:
URL:https://salcedadecaselas.gal/evento/taller-querernos-libres/2025-11-12/
ATTACH;FMTTYPE=image/jpeg:https://salcedadecaselas.gal/wp-content/uploads/2025/11/QUERERNOS-LIBRES.jpeg
ORGANIZER;CN="Concello de Salceda de Caselas":MAILTO:alcaldia@salcedadecaselas.gal
END:VEVENT
BEGIN:VEVENT
DTSTART;VALUE=DATE:20251108
DTEND;VALUE=DATE:20251109
DTSTAMP:20260424T100950
CREATED:20250826T072423Z
LAST-MODIFIED:20250826T131822Z
UID:10000142-1762560000-1762646399@salcedadecaselas.gal
SUMMARY:CASELAS CON C DE COMEDIA
DESCRIPTION:
URL:https://salcedadecaselas.gal/evento/caselas-con-c-de-comedia/2025-11-08/
LOCATION:Auditorio Municipal
ATTACH;FMTTYPE=image/jpeg:https://salcedadecaselas.gal/wp-content/uploads/2025/08/Caselas-Comedia.jpeg
ORGANIZER;CN="Concello de Salceda de Caselas":MAILTO:alcaldia@salcedadecaselas.gal
END:VEVENT
BEGIN:VEVENT
DTSTART;VALUE=DATE:20251031
DTEND;VALUE=DATE:20251101
DTSTAMP:20260424T100950
CREATED:20251024T081002Z
LAST-MODIFIED:20251024T081002Z
UID:10000213-1761868800-1761955199@salcedadecaselas.gal
SUMMARY:SAMAÍN - A PASAXE DO TERROR
DESCRIPTION:
URL:https://salcedadecaselas.gal/evento/samain-a-pasaxe-do-terror/
LOCATION:Senda Landres-Lagoela
ATTACH;FMTTYPE=image/jpeg:https://salcedadecaselas.gal/wp-content/uploads/2025/10/SAMAIN.jpg
ORGANIZER;CN="Concello de Salceda de Caselas":MAILTO:alcaldia@salcedadecaselas.gal
END:VEVENT
BEGIN:VEVENT
DTSTART;VALUE=DATE:20251024
DTEND;VALUE=DATE:20251025
DTSTAMP:20260424T100950
CREATED:20251020T084927Z
LAST-MODIFIED:20251020T084927Z
UID:10000203-1761264000-1761350399@salcedadecaselas.gal
SUMMARY:CONTACONTOS CON PAULA DAVILA
DESCRIPTION:
URL:https://salcedadecaselas.gal/evento/contacontos-con-paula-davila/
LOCATION:Casa da Cultura ADR Castelao
ATTACH;FMTTYPE=image/jpeg:https://salcedadecaselas.gal/wp-content/uploads/2025/10/WhatsApp-Image-2025-10-20-at-10.38.36.jpeg
ORGANIZER;CN="Concello de Salceda de Caselas":MAILTO:alcaldia@salcedadecaselas.gal
END:VEVENT
BEGIN:VEVENT
DTSTART;VALUE=DATE:20251010
DTEND;VALUE=DATE:20251011
DTSTAMP:20260424T100950
CREATED:20250916T091751Z
LAST-MODIFIED:20250916T091751Z
UID:10000179-1760087872-1760087872@salcedadecaselas.gal
SUMMARY:LER CONTA MOITO
DESCRIPTION:
URL:https://salcedadecaselas.gal/evento/ler-conta-moito/2025-10-10/
LOCATION:Casa da Cultura ADR Castelao
ATTACH;FMTTYPE=image/jpeg:https://salcedadecaselas.gal/wp-content/uploads/2025/09/WhatsApp-Image-2025-09-15-at-16.02.39.jpeg
ORGANIZER;CN="Concello de Salceda de Caselas":MAILTO:alcaldia@salcedadecaselas.gal
END:VEVENT
BEGIN:VEVENT
DTSTART;VALUE=DATE:20251003
DTEND;VALUE=DATE:20251004
DTSTAMP:20260424T100950
CREATED:20250916T091751Z
LAST-MODIFIED:20250916T091751Z
UID:10000178-1759483072-1759483072@salcedadecaselas.gal
SUMMARY:LER CONTA MOITO
DESCRIPTION:
URL:https://salcedadecaselas.gal/evento/ler-conta-moito/2025-10-03/
LOCATION:Casa da Cultura ADR Castelao
ATTACH;FMTTYPE=image/jpeg:https://salcedadecaselas.gal/wp-content/uploads/2025/09/WhatsApp-Image-2025-09-15-at-16.02.39.jpeg
ORGANIZER;CN="Concello de Salceda de Caselas":MAILTO:alcaldia@salcedadecaselas.gal
END:VEVENT
BEGIN:VEVENT
DTSTART;VALUE=DATE:20250927
DTEND;VALUE=DATE:20250928
DTSTAMP:20260424T100950
CREATED:20250901T070718Z
LAST-MODIFIED:20250901T070718Z
UID:10000158-1758956838-1758956838@salcedadecaselas.gal
SUMMARY:VIII PINCHO FOLK
DESCRIPTION:
URL:https://salcedadecaselas.gal/evento/viii-pincho-folk/2025-09-27/
ATTACH;FMTTYPE=image/jpeg:https://salcedadecaselas.gal/wp-content/uploads/2025/09/WhatsApp-Image-2025-09-01-at-09.04.19.jpeg
ORGANIZER;CN="Concello de Salceda de Caselas":MAILTO:alcaldia@salcedadecaselas.gal
END:VEVENT
BEGIN:VEVENT
DTSTART;VALUE=DATE:20250926
DTEND;VALUE=DATE:20250927
DTSTAMP:20260424T100950
CREATED:20250901T070718Z
LAST-MODIFIED:20250901T070718Z
UID:10000157-1758870438-1758870438@salcedadecaselas.gal
SUMMARY:VIII PINCHO FOLK
DESCRIPTION:
URL:https://salcedadecaselas.gal/evento/viii-pincho-folk/2025-09-26/
ATTACH;FMTTYPE=image/jpeg:https://salcedadecaselas.gal/wp-content/uploads/2025/09/WhatsApp-Image-2025-09-01-at-09.04.19.jpeg
ORGANIZER;CN="Concello de Salceda de Caselas":MAILTO:alcaldia@salcedadecaselas.gal
END:VEVENT
BEGIN:VEVENT
DTSTART;VALUE=DATE:20250926
DTEND;VALUE=DATE:20250927
DTSTAMP:20260424T100950
CREATED:20250916T091751Z
LAST-MODIFIED:20250916T091751Z
UID:10000177-1758844800-1758931199@salcedadecaselas.gal
SUMMARY:LER CONTA MOITO
DESCRIPTION:
URL:https://salcedadecaselas.gal/evento/ler-conta-moito/2025-09-26/
LOCATION:Casa da Cultura ADR Castelao
ATTACH;FMTTYPE=image/jpeg:https://salcedadecaselas.gal/wp-content/uploads/2025/09/WhatsApp-Image-2025-09-15-at-16.02.39.jpeg
ORGANIZER;CN="Concello de Salceda de Caselas":MAILTO:alcaldia@salcedadecaselas.gal
END:VEVENT
BEGIN:VEVENT
DTSTART;VALUE=DATE:20250925
DTEND;VALUE=DATE:20250926
DTSTAMP:20260424T100950
CREATED:20250901T070959Z
LAST-MODIFIED:20250901T070959Z
UID:10000162-1758784200-1758784200@salcedadecaselas.gal
SUMMARY:SALCEDA EN FORMA
DESCRIPTION:
URL:https://salcedadecaselas.gal/evento/salceda-en-forma/2025-09-25/
LOCATION:Parque Raíña Aragonta
ATTACH;FMTTYPE=image/jpeg:https://salcedadecaselas.gal/wp-content/uploads/2025/09/WhatsApp-Image-2025-08-30-at-16.16.30.jpeg
ORGANIZER;CN="Concello de Salceda de Caselas":MAILTO:alcaldia@salcedadecaselas.gal
END:VEVENT
BEGIN:VEVENT
DTSTART;VALUE=DATE:20250920
DTEND;VALUE=DATE:20250921
DTSTAMP:20260424T100950
CREATED:20250901T070718Z
LAST-MODIFIED:20250901T070718Z
UID:10000156-1758352038-1758352038@salcedadecaselas.gal
SUMMARY:VIII PINCHO FOLK
DESCRIPTION:
URL:https://salcedadecaselas.gal/evento/viii-pincho-folk/2025-09-20/
ATTACH;FMTTYPE=image/jpeg:https://salcedadecaselas.gal/wp-content/uploads/2025/09/WhatsApp-Image-2025-09-01-at-09.04.19.jpeg
ORGANIZER;CN="Concello de Salceda de Caselas":MAILTO:alcaldia@salcedadecaselas.gal
END:VEVENT
BEGIN:VEVENT
DTSTART;VALUE=DATE:20250919
DTEND;VALUE=DATE:20250920
DTSTAMP:20260424T100950
CREATED:20250901T070718Z
LAST-MODIFIED:20250901T070718Z
UID:10000155-1758265638-1758265638@salcedadecaselas.gal
SUMMARY:VIII PINCHO FOLK
DESCRIPTION:
URL:https://salcedadecaselas.gal/evento/viii-pincho-folk/2025-09-19/
ATTACH;FMTTYPE=image/jpeg:https://salcedadecaselas.gal/wp-content/uploads/2025/09/WhatsApp-Image-2025-09-01-at-09.04.19.jpeg
ORGANIZER;CN="Concello de Salceda de Caselas":MAILTO:alcaldia@salcedadecaselas.gal
END:VEVENT
BEGIN:VEVENT
DTSTART;VALUE=DATE:20250918
DTEND;VALUE=DATE:20250919
DTSTAMP:20260424T100950
CREATED:20250901T070959Z
LAST-MODIFIED:20250901T070959Z
UID:10000161-1758179400-1758179400@salcedadecaselas.gal
SUMMARY:SALCEDA EN FORMA
DESCRIPTION:
URL:https://salcedadecaselas.gal/evento/salceda-en-forma/2025-09-18/
LOCATION:Parque Raíña Aragonta
ATTACH;FMTTYPE=image/jpeg:https://salcedadecaselas.gal/wp-content/uploads/2025/09/WhatsApp-Image-2025-08-30-at-16.16.30.jpeg
ORGANIZER;CN="Concello de Salceda de Caselas":MAILTO:alcaldia@salcedadecaselas.gal
END:VEVENT
BEGIN:VEVENT
DTSTART;VALUE=DATE:20250913
DTEND;VALUE=DATE:20250914
DTSTAMP:20260424T100950
CREATED:20250901T070718Z
LAST-MODIFIED:20250901T070718Z
UID:10000154-1757747238-1757747238@salcedadecaselas.gal
SUMMARY:VIII PINCHO FOLK
DESCRIPTION:
URL:https://salcedadecaselas.gal/evento/viii-pincho-folk/2025-09-13/
ATTACH;FMTTYPE=image/jpeg:https://salcedadecaselas.gal/wp-content/uploads/2025/09/WhatsApp-Image-2025-09-01-at-09.04.19.jpeg
ORGANIZER;CN="Concello de Salceda de Caselas":MAILTO:alcaldia@salcedadecaselas.gal
END:VEVENT
BEGIN:VEVENT
DTSTART;VALUE=DATE:20250912
DTEND;VALUE=DATE:20250913
DTSTAMP:20260424T100950
CREATED:20250901T070718Z
LAST-MODIFIED:20250901T070718Z
UID:10000153-1757635200-1757721599@salcedadecaselas.gal
SUMMARY:VIII PINCHO FOLK
DESCRIPTION:
URL:https://salcedadecaselas.gal/evento/viii-pincho-folk/2025-09-12/
ATTACH;FMTTYPE=image/jpeg:https://salcedadecaselas.gal/wp-content/uploads/2025/09/WhatsApp-Image-2025-09-01-at-09.04.19.jpeg
ORGANIZER;CN="Concello de Salceda de Caselas":MAILTO:alcaldia@salcedadecaselas.gal
END:VEVENT
BEGIN:VEVENT
DTSTART;VALUE=DATE:20250911
DTEND;VALUE=DATE:20250912
DTSTAMP:20260424T100950
CREATED:20250901T070959Z
LAST-MODIFIED:20250901T070959Z
UID:10000160-1757574600-1757574600@salcedadecaselas.gal
SUMMARY:SALCEDA EN FORMA
DESCRIPTION:
URL:https://salcedadecaselas.gal/evento/salceda-en-forma/2025-09-11/
LOCATION:Parque Raíña Aragonta
ATTACH;FMTTYPE=image/jpeg:https://salcedadecaselas.gal/wp-content/uploads/2025/09/WhatsApp-Image-2025-08-30-at-16.16.30.jpeg
ORGANIZER;CN="Concello de Salceda de Caselas":MAILTO:alcaldia@salcedadecaselas.gal
END:VEVENT
BEGIN:VEVENT
DTSTART;VALUE=DATE:20250905
DTEND;VALUE=DATE:20250908
DTSTAMP:20260424T100950
CREATED:20250826T074339Z
LAST-MODIFIED:20250826T080942Z
UID:10000146-1757030400-1757289599@salcedadecaselas.gal
SUMMARY:XXXI FESTA DOS CALLOS
DESCRIPTION:
URL:https://salcedadecaselas.gal/evento/xxxi-festa-dos-callos/
LOCATION:Praza do Concello
ATTACH;FMTTYPE=image/jpeg:https://salcedadecaselas.gal/wp-content/uploads/2025/08/CALLOS.jpeg
ORGANIZER;CN="Concello de Salceda de Caselas":MAILTO:alcaldia@salcedadecaselas.gal
END:VEVENT
BEGIN:VEVENT
DTSTART;VALUE=DATE:20250905
DTEND;VALUE=DATE:20250906
DTSTAMP:20260424T100950
CREATED:20250826T072653Z
LAST-MODIFIED:20250826T072653Z
UID:10000145-1757030400-1757116799@salcedadecaselas.gal
SUMMARY:XVII SERÁN DOS CALLOS
DESCRIPTION:
URL:https://salcedadecaselas.gal/evento/xvii-seran-dos-callos/
LOCATION:Praza do Concello
ATTACH;FMTTYPE=image/jpeg:https://salcedadecaselas.gal/wp-content/uploads/2025/08/SERAN.jpeg
ORGANIZER;CN="Concello de Salceda de Caselas":MAILTO:alcaldia@salcedadecaselas.gal
END:VEVENT
BEGIN:VEVENT
DTSTART;VALUE=DATE:20250904
DTEND;VALUE=DATE:20250905
DTSTAMP:20260424T100950
CREATED:20250901T070959Z
LAST-MODIFIED:20250901T070959Z
UID:10000159-1756944000-1757030399@salcedadecaselas.gal
SUMMARY:SALCEDA EN FORMA
DESCRIPTION:
URL:https://salcedadecaselas.gal/evento/salceda-en-forma/2025-09-04/
LOCATION:Parque Raíña Aragonta
ATTACH;FMTTYPE=image/jpeg:https://salcedadecaselas.gal/wp-content/uploads/2025/09/WhatsApp-Image-2025-08-30-at-16.16.30.jpeg
ORGANIZER;CN="Concello de Salceda de Caselas":MAILTO:alcaldia@salcedadecaselas.gal
END:VEVENT
BEGIN:VEVENT
DTSTART;VALUE=DATE:20250718
DTEND;VALUE=DATE:20250719
DTSTAMP:20260424T100950
CREATED:20250701T080115Z
LAST-MODIFIED:20250701T080115Z
UID:10000118-1752796800-1752883199@salcedadecaselas.gal
SUMMARY:VAIA CRISTO
DESCRIPTION:
URL:https://salcedadecaselas.gal/evento/vaia-cristo/
LOCATION:C. S. O Matadoiro
ATTACH;FMTTYPE=image/jpeg:https://salcedadecaselas.gal/wp-content/uploads/2025/07/WhatsApp-Image-2025-07-01-at-09.50.54.jpeg
END:VEVENT
BEGIN:VEVENT
DTSTART;VALUE=DATE:20250714
DTEND;VALUE=DATE:20250719
DTSTAMP:20260424T100950
CREATED:20250701T081127Z
LAST-MODIFIED:20250701T081127Z
UID:10000120-1752451200-1752883199@salcedadecaselas.gal
SUMMARY:IX TORNEO VILA DE SALCEDA
DESCRIPTION:
URL:https://salcedadecaselas.gal/evento/ix-torneo-vila-de-salceda/
LOCATION:Pavillón Municipal de Deportes
ATTACH;FMTTYPE=image/jpeg:https://salcedadecaselas.gal/wp-content/uploads/2025/07/WhatsApp-Image-2025-06-30-at-17.40.43.jpeg
END:VEVENT
BEGIN:VEVENT
DTSTART;VALUE=DATE:20250711
DTEND;VALUE=DATE:20250713
DTSTAMP:20260424T100950
CREATED:20250709T212259Z
LAST-MODIFIED:20250709T212259Z
UID:10000126-1752192000-1752364799@salcedadecaselas.gal
SUMMARY:FESTIVAL DE BANDAS
DESCRIPTION:
URL:https://salcedadecaselas.gal/evento/festival-de-bandas/
LOCATION:CEP Altamira
ATTACH;FMTTYPE=image/jpeg:https://salcedadecaselas.gal/wp-content/uploads/2025/07/WhatsApp-Image-2025-07-09-at-18.46.53.jpeg
ORGANIZER;CN="Concello de Salceda de Caselas":MAILTO:alcaldia@salcedadecaselas.gal
END:VEVENT
BEGIN:VEVENT
DTSTART;VALUE=DATE:20250710
DTEND;VALUE=DATE:20250711
DTSTAMP:20260424T100950
CREATED:20250710T100838Z
LAST-MODIFIED:20250710T100838Z
UID:10000127-1752105600-1752191999@salcedadecaselas.gal
SUMMARY:DÍA DA INFANCIA E FESTIVAL FOLCLÓRICO
DESCRIPTION:
URL:https://salcedadecaselas.gal/evento/dia-da-infancia-e-festival-folclorico/
ATTACH;FMTTYPE=image/jpeg:https://salcedadecaselas.gal/wp-content/uploads/2025/07/WhatsApp-Image-2025-07-10-at-12.01.20.jpeg
ORGANIZER;CN="Concello de Salceda de Caselas":MAILTO:alcaldia@salcedadecaselas.gal
END:VEVENT
BEGIN:VEVENT
DTSTART;VALUE=DATE:20250708
DTEND;VALUE=DATE:20250722
DTSTAMP:20260424T100950
CREATED:20250703T093132Z
LAST-MODIFIED:20250703T093132Z
UID:10000123-1751932800-1753142399@salcedadecaselas.gal
SUMMARY:VERÁN CULTURAL
DESCRIPTION:
URL:https://salcedadecaselas.gal/evento/veran-cultural/
ATTACH;FMTTYPE=image/jpeg:https://salcedadecaselas.gal/wp-content/uploads/2025/07/WhatsApp-Image-2025-07-02-at-12.35.22.jpeg
ORGANIZER;CN="Concello de Salceda de Caselas":MAILTO:alcaldia@salcedadecaselas.gal
END:VEVENT
BEGIN:VEVENT
DTSTART;VALUE=DATE:20250708
DTEND;VALUE=DATE:20250709
DTSTAMP:20260424T100950
CREATED:20250707T121421Z
LAST-MODIFIED:20250707T121421Z
UID:10000125-1751932800-1752019199@salcedadecaselas.gal
SUMMARY:CINE NA RÚA
DESCRIPTION:
URL:https://salcedadecaselas.gal/evento/cine-na-rua/
LOCATION:Praza do Concello
ATTACH;FMTTYPE=image/jpeg:https://salcedadecaselas.gal/wp-content/uploads/2025/07/CINE-NA-RUA.jpeg
ORGANIZER;CN="Concello de Salceda de Caselas":MAILTO:alcaldia@salcedadecaselas.gal
END:VEVENT
BEGIN:VEVENT
DTSTART;VALUE=DATE:20250627
DTEND;VALUE=DATE:20250629
DTSTAMP:20260424T100950
CREATED:20250625T065536Z
LAST-MODIFIED:20250625T065536Z
UID:10000115-1750982400-1751155199@salcedadecaselas.gal
SUMMARY:DÍA DO ORGULLO
DESCRIPTION:
URL:https://salcedadecaselas.gal/evento/dia-do-orgullo/
ATTACH;FMTTYPE=image/jpeg:https://salcedadecaselas.gal/wp-content/uploads/2025/06/WhatsApp-Image-2025-06-23-at-17.59.03.jpeg
ORGANIZER;CN="Concello de Salceda de Caselas":MAILTO:alcaldia@salcedadecaselas.gal
END:VEVENT
END:VCALENDAR