BEGIN:VCALENDAR
VERSION:2.0
PRODID:-//Concello de Salceda de Caselas - ECPv6.15.17.1//NONSGML v1.0//EN
CALSCALE:GREGORIAN
METHOD:PUBLISH
X-ORIGINAL-URL:https://salcedadecaselas.gal
X-WR-CALDESC:Eventos para Concello de Salceda de Caselas
REFRESH-INTERVAL;VALUE=DURATION:PT1H
X-Robots-Tag:noindex
X-PUBLISHED-TTL:PT1H
BEGIN:VTIMEZONE
TZID:UTC
BEGIN:STANDARD
TZOFFSETFROM:+0000
TZOFFSETTO:+0000
TZNAME:UTC
DTSTART:20250101T000000
END:STANDARD
END:VTIMEZONE
BEGIN:VEVENT
DTSTART;VALUE=DATE:20260503
DTEND;VALUE=DATE:20260504
DTSTAMP:20260424T055204
CREATED:20260413T130622Z
LAST-MODIFIED:20260413T130622Z
UID:10000372-1777766400-1777852799@salcedadecaselas.gal
SUMMARY:XIII CORRE X SALCEDA
DESCRIPTION:
URL:https://salcedadecaselas.gal/evento/xiii-corre-x-salceda/
ATTACH;FMTTYPE=image/jpeg:https://salcedadecaselas.gal/wp-content/uploads/2026/04/Cartel-corre-x-salceda-2026-scaled.jpg
ORGANIZER;CN="Concello de Salceda de Caselas":MAILTO:alcaldia@salcedadecaselas.gal
END:VEVENT
BEGIN:VEVENT
DTSTART;VALUE=DATE:20260530
DTEND;VALUE=DATE:20260531
DTSTAMP:20260424T055204
CREATED:20260401T081130Z
LAST-MODIFIED:20260401T081130Z
UID:10000359-1780099200-1780185599@salcedadecaselas.gal
SUMMARY:QUERE O TEU MERCADO
DESCRIPTION:
URL:https://salcedadecaselas.gal/evento/quere-o-teu-mercado-2/
ATTACH;FMTTYPE=image/jpeg:https://salcedadecaselas.gal/wp-content/uploads/2026/04/QUERE-O-TEU-MERCADO.jpeg
ORGANIZER;CN="Concello de Salceda de Caselas":MAILTO:alcaldia@salcedadecaselas.gal
END:VEVENT
END:VCALENDAR