BEGIN:VCALENDAR
VERSION:2.0
PRODID:-//Concello de Salceda de Caselas - ECPv6.15.17.1//NONSGML v1.0//EN
CALSCALE:GREGORIAN
METHOD:PUBLISH
X-WR-CALNAME:Concello de Salceda de Caselas
X-ORIGINAL-URL:https://salcedadecaselas.gal
X-WR-CALDESC:Eventos para Concello de Salceda de Caselas
REFRESH-INTERVAL;VALUE=DURATION:PT1H
X-Robots-Tag:noindex
X-PUBLISHED-TTL:PT1H
BEGIN:VTIMEZONE
TZID:UTC
BEGIN:STANDARD
TZOFFSETFROM:+0000
TZOFFSETTO:+0000
TZNAME:UTC
DTSTART:20240101T000000
END:STANDARD
END:VTIMEZONE
BEGIN:VEVENT
DTSTART;VALUE=DATE:20260329
DTEND;VALUE=DATE:20260330
DTSTAMP:20260424T071929
CREATED:20260317T123534Z
LAST-MODIFIED:20260317T123534Z
UID:10000352-1774742400-1774828799@salcedadecaselas.gal
SUMMARY:FESTA DO XABARÍN
DESCRIPTION:
URL:https://salcedadecaselas.gal/evento/festa-do-xabarin-2/
LOCATION:Torreiro de San Xurxo
ATTACH;FMTTYPE=image/jpeg:https://salcedadecaselas.gal/wp-content/uploads/2026/03/WhatsApp-Image-2026-03-17-at-13.32.58.jpeg
END:VEVENT
BEGIN:VEVENT
DTSTART;VALUE=DATE:20260307
DTEND;VALUE=DATE:20260308
DTSTAMP:20260424T071929
CREATED:20260205T213132Z
LAST-MODIFIED:20260205T213132Z
UID:10000324-1772841600-1772927999@salcedadecaselas.gal
SUMMARY:SORTEO DE EXPERIENCIAS
DESCRIPTION:
URL:https://salcedadecaselas.gal/evento/sorteo-de-experiencias/
LOCATION:Centro Cultural San Xurxo
ATTACH;FMTTYPE=image/jpeg:https://salcedadecaselas.gal/wp-content/uploads/2026/02/WhatsApp-Image-2026-02-05-at-18.17.27.jpeg
END:VEVENT
BEGIN:VEVENT
DTSTART;VALUE=DATE:20260208
DTEND;VALUE=DATE:20260209
DTSTAMP:20260424T071929
CREATED:20260121T152759Z
LAST-MODIFIED:20260121T152759Z
UID:10000309-1770508800-1770595199@salcedadecaselas.gal
SUMMARY:XANTAR POPULAR
DESCRIPTION:
URL:https://salcedadecaselas.gal/evento/xantar-popular-2/
LOCATION:Centro Cultural San Xurxo
ATTACH;FMTTYPE=image/jpeg:https://salcedadecaselas.gal/wp-content/uploads/2026/01/WhatsApp-Image-2026-01-20-at-19.27.32.jpeg
END:VEVENT
BEGIN:VEVENT
DTSTART;VALUE=DATE:20251206
DTEND;VALUE=DATE:20251207
DTSTAMP:20260424T071929
CREATED:20251205T112115Z
LAST-MODIFIED:20251205T112115Z
UID:10000275-1764979200-1765065599@salcedadecaselas.gal
SUMMARY:SANTA BÁRBARA
DESCRIPTION:
URL:https://salcedadecaselas.gal/evento/santa-barbara-2/
LOCATION:Torreiro de San Xurxo
ATTACH;FMTTYPE=image/jpeg:https://salcedadecaselas.gal/wp-content/uploads/2025/12/WhatsApp-Image-2025-12-05-at-12.19.25.jpeg
END:VEVENT
BEGIN:VEVENT
DTSTART;VALUE=DATE:20251206
DTEND;VALUE=DATE:20251207
DTSTAMP:20260424T071929
CREATED:20251116T152635Z
LAST-MODIFIED:20251116T152635Z
UID:10000248-1764979200-1765065599@salcedadecaselas.gal
SUMMARY:XANTAR POPULAR
DESCRIPTION:
URL:https://salcedadecaselas.gal/evento/xantar-popular/
LOCATION:Centro Cultural San Xurxo
ATTACH;FMTTYPE=image/jpeg:https://salcedadecaselas.gal/wp-content/uploads/2025/11/WhatsApp-Image-2025-11-16-at-14.16.27.jpeg
END:VEVENT
BEGIN:VEVENT
DTSTART;VALUE=DATE:20251107
DTEND;VALUE=DATE:20251109
DTSTAMP:20260424T071929
CREATED:20251105T225210Z
LAST-MODIFIED:20251105T225210Z
UID:10000228-1762473600-1762646399@salcedadecaselas.gal
SUMMARY:IV FESTA FURANCHEIRA SAN XURXO
DESCRIPTION:
URL:https://salcedadecaselas.gal/evento/iv-festa-furancheira-san-xurxo/
ATTACH;FMTTYPE=image/jpeg:https://salcedadecaselas.gal/wp-content/uploads/2025/11/WhatsApp-Image-2025-11-05-at-18.34.24.jpeg
END:VEVENT
BEGIN:VEVENT
DTSTART;VALUE=DATE:20250613
DTEND;VALUE=DATE:20250617
DTSTAMP:20260424T071929
CREATED:20250610T070856Z
LAST-MODIFIED:20250610T070856Z
UID:10000101-1749772800-1750118399@salcedadecaselas.gal
SUMMARY:SANTA BÁRBARA
DESCRIPTION:
URL:https://salcedadecaselas.gal/evento/santa-barbara/
ATTACH;FMTTYPE=image/jpeg:https://salcedadecaselas.gal/wp-content/uploads/2025/06/SANTA-BARBARA.jpg
END:VEVENT
BEGIN:VEVENT
DTSTART;VALUE=DATE:20250425
DTEND;VALUE=DATE:20250427
DTSTAMP:20260424T071929
CREATED:20250403T084158Z
LAST-MODIFIED:20250403T084158Z
UID:10000043-1745539200-1745711999@salcedadecaselas.gal
SUMMARY:III FESTA FURANCHEIRA SAN XURXO
DESCRIPTION:
URL:https://salcedadecaselas.gal/evento/iii-festa-furancheira-san-xurxo/
ATTACH;FMTTYPE=image/jpeg:https://salcedadecaselas.gal/wp-content/uploads/2025/04/WhatsApp-Image-2025-04-03-at-09.38.11.jpeg
END:VEVENT
END:VCALENDAR